BEGIN:VCALENDAR
VERSION:2.0
PRODID:DPCALENDAR
CALSCALE:GREGORIAN
BEGIN:VTIMEZONE
TZID:Europe/Berlin
X-MICROSOFT-CDO-TZID:4
BEGIN:STANDARD
DTSTART:20251026T010000
TZOFFSETFROM:+0200
TZOFFSETTO:+0100
TZNAME:CET
END:STANDARD
BEGIN:DAYLIGHT
DTSTART:20260329T010000
TZOFFSETFROM:+0100
TZOFFSETTO:+0200
TZNAME:CEST
END:DAYLIGHT
BEGIN:STANDARD
DTSTART:20261025T010000
TZOFFSETFROM:+0200
TZOFFSETTO:+0100
TZNAME:CET
END:STANDARD
END:VTIMEZONE
X-WR-TIMEZONE:Europe/Berlin
BEGIN:VEVENT
DTSTART;TZID=Europe/Berlin:20161126T090000
DTEND;TZID=Europe/Berlin:20161126T170000
UID:DDB24FA9-8AE7-4765-BDCC-23370F4CD1FD
SUMMARY:Erste Hilfe Kurs
DTSTAMP:20140119T162730Z
DESCRIPTION:Kursleiterin Nathalie SassAnmeldung beim Kreisverband Böblingen onlineAchtung: Terminverschiebung vom 19.11. auf den 26.11.16!
X-ALT-DESC;FMTTYPE=text/html:<p>Kursleiterin Nathalie Sass<br />Anmeldung beim Kreisverband B&ouml;blingen <a href="http://www.kurs-anmeldung.de/KursAnmeldungOnline.Dll?LIC=2259" target="_blank">online</a><br />Achtung: Terminverschiebung vom 19.11. auf den 26.11.16!<br /><br /></p>
LOCATION:Gartenstraße 11\, 71139 Ehningen\, Baden-Württemberg\, Deutschland
GEO:48.65957000;8.94372000
LAST-MODIFIED:20160927T113645Z
X-ACCESS:1
X-HITS:3271
X-URL:
X-COLOR:3366CC
END:VEVENT
END:VCALENDAR