BEGIN:VCALENDAR
VERSION:2.0
PRODID:DPCALENDAR
CALSCALE:GREGORIAN
BEGIN:VTIMEZONE
TZID:Europe/Berlin
X-MICROSOFT-CDO-TZID:4
BEGIN:STANDARD
DTSTART:20251026T010000
TZOFFSETFROM:+0200
TZOFFSETTO:+0100
TZNAME:CET
END:STANDARD
BEGIN:DAYLIGHT
DTSTART:20260329T010000
TZOFFSETFROM:+0100
TZOFFSETTO:+0200
TZNAME:CEST
END:DAYLIGHT
BEGIN:STANDARD
DTSTART:20261025T010000
TZOFFSETFROM:+0200
TZOFFSETTO:+0100
TZNAME:CET
END:STANDARD
END:VTIMEZONE
X-WR-TIMEZONE:Europe/Berlin
BEGIN:VEVENT
DTSTART;TZID=Europe/Berlin:20160116T090000
DTEND;TZID=Europe/Berlin:20160116T170000
UID:5DEC8FFF-8E6E-4185-A4C9-EBA1084C462B
SUMMARY:Erste Hilfe Kurs
DTSTAMP:20140119T162730Z
DESCRIPTION:Kursleiterin Nathalie Sass
X-ALT-DESC;FMTTYPE=text/html:<p>Kursleiterin Nathalie Sass</p>
LOCATION:Gartenstraße 11\, 71139 Ehningen\, Baden-Württemberg\, Deutschland
GEO:48.65957000;8.94372000
LAST-MODIFIED:20151202T120204Z
X-ACCESS:1
X-HITS:2256
X-URL:
X-COLOR:3366CC
END:VEVENT
END:VCALENDAR