BEGIN:VCALENDAR
VERSION:2.0
PRODID:DPCALENDAR
CALSCALE:GREGORIAN
BEGIN:VTIMEZONE
TZID:Europe/Berlin
X-MICROSOFT-CDO-TZID:4
BEGIN:STANDARD
DTSTART:20251026T010000
TZOFFSETFROM:+0200
TZOFFSETTO:+0100
TZNAME:CET
END:STANDARD
BEGIN:DAYLIGHT
DTSTART:20260329T010000
TZOFFSETFROM:+0100
TZOFFSETTO:+0200
TZNAME:CEST
END:DAYLIGHT
BEGIN:STANDARD
DTSTART:20261025T010000
TZOFFSETFROM:+0200
TZOFFSETTO:+0100
TZNAME:CET
END:STANDARD
END:VTIMEZONE
X-WR-TIMEZONE:Europe/Berlin
BEGIN:VEVENT
DTSTART;TZID=Europe/Berlin:20230401T090000
DTEND;TZID=Europe/Berlin:20230401T163000
UID:8B69CD99-11BC-4E75-B794-07CFAB01295C
SUMMARY:Erste-Hilfe-Kurs in Ehningen
DTSTAMP:20230326T132207Z
DESCRIPTION:
X-ALT-DESC;FMTTYPE=text/html:
LOCATION:Gartenstraße 11\, 71139 Ehningen\, Baden-Württemberg\, Deutschland
GEO:48.65957000;8.94372000
LAST-MODIFIED:20230326T132843Z
X-ACCESS:1
X-HITS:1113
X-URL:https://www.drk-kv-boeblingen.de/erste-hilfe-kurse/erste-hilfe/rotkreuzkurs-erste-hilfe.html
X-COLOR:352EFF
END:VEVENT
END:VCALENDAR